BEGIN:VCALENDAR
VERSION:2.0
PRODID:-//The Venture Forum, Inc. - ECPv6.15.20//NONSGML v1.0//EN
CALSCALE:GREGORIAN
METHOD:PUBLISH
X-ORIGINAL-URL:https://theventureforum.org
X-WR-CALDESC:Events for The Venture Forum, Inc.
REFRESH-INTERVAL;VALUE=DURATION:PT1H
X-Robots-Tag:noindex
X-PUBLISHED-TTL:PT1H
BEGIN:VTIMEZONE
TZID:America/New_York
BEGIN:DAYLIGHT
TZOFFSETFROM:-0500
TZOFFSETTO:-0400
TZNAME:EDT
DTSTART:20230312T070000
END:DAYLIGHT
BEGIN:STANDARD
TZOFFSETFROM:-0400
TZOFFSETTO:-0500
TZNAME:EST
DTSTART:20231105T060000
END:STANDARD
BEGIN:DAYLIGHT
TZOFFSETFROM:-0500
TZOFFSETTO:-0400
TZNAME:EDT
DTSTART:20240310T070000
END:DAYLIGHT
BEGIN:STANDARD
TZOFFSETFROM:-0400
TZOFFSETTO:-0500
TZNAME:EST
DTSTART:20241103T060000
END:STANDARD
BEGIN:DAYLIGHT
TZOFFSETFROM:-0500
TZOFFSETTO:-0400
TZNAME:EDT
DTSTART:20250309T070000
END:DAYLIGHT
BEGIN:STANDARD
TZOFFSETFROM:-0400
TZOFFSETTO:-0500
TZNAME:EST
DTSTART:20251102T060000
END:STANDARD
END:VTIMEZONE
BEGIN:VEVENT
DTSTART;TZID=America/New_York:20240123T180000
DTEND;TZID=America/New_York:20240123T200000
DTSTAMP:20260422T224932
CREATED:20240223T143714Z
LAST-MODIFIED:20240223T143905Z
UID:10196-1706032800-1706040000@theventureforum.org
SUMMARY:The Evolving Landscape of AI
DESCRIPTION:Join us for a riveting panel discussion\, “The Evolving Landscape of AI\,” co-hosted by the WPI Business Development Lab and The Venture Forum. This event promises to be a confluence of minds and ideas\, diving deep into the dynamic and ever-changing world of Artificial Intelligence.
URL:https://theventureforum.org/event/the-evolving-landscape-of-ai/
LOCATION:Massachusetts Biomedical Initiatives (MBI)\, 17 Briden Street\, Worcester\, MA\, 01605\, United States
CATEGORIES:Partner Event,Speaker Series
ATTACH;FMTTYPE=image/jpeg:https://theventureforum.org/wp-content/uploads/2024/02/evolving-landscape-of-AI.jpg
END:VEVENT
END:VCALENDAR