BEGIN:VCALENDAR
VERSION:2.0
PRODID:-//The Venture Forum, Inc. - ECPv6.15.20//NONSGML v1.0//EN
CALSCALE:GREGORIAN
METHOD:PUBLISH
X-ORIGINAL-URL:https://theventureforum.org
X-WR-CALDESC:Events for The Venture Forum, Inc.
REFRESH-INTERVAL;VALUE=DURATION:PT1H
X-Robots-Tag:noindex
X-PUBLISHED-TTL:PT1H
BEGIN:VTIMEZONE
TZID:America/New_York
BEGIN:DAYLIGHT
TZOFFSETFROM:-0500
TZOFFSETTO:-0400
TZNAME:EDT
DTSTART:20230312T070000
END:DAYLIGHT
BEGIN:STANDARD
TZOFFSETFROM:-0400
TZOFFSETTO:-0500
TZNAME:EST
DTSTART:20231105T060000
END:STANDARD
BEGIN:DAYLIGHT
TZOFFSETFROM:-0500
TZOFFSETTO:-0400
TZNAME:EDT
DTSTART:20240310T070000
END:DAYLIGHT
BEGIN:STANDARD
TZOFFSETFROM:-0400
TZOFFSETTO:-0500
TZNAME:EST
DTSTART:20241103T060000
END:STANDARD
BEGIN:DAYLIGHT
TZOFFSETFROM:-0500
TZOFFSETTO:-0400
TZNAME:EDT
DTSTART:20250309T070000
END:DAYLIGHT
BEGIN:STANDARD
TZOFFSETFROM:-0400
TZOFFSETTO:-0500
TZNAME:EST
DTSTART:20251102T060000
END:STANDARD
END:VTIMEZONE
BEGIN:VEVENT
DTSTART;TZID=America/New_York:20241021T173000
DTEND;TZID=America/New_York:20241021T190000
DTSTAMP:20260422T143735
CREATED:20240820T184236Z
LAST-MODIFIED:20241003T184215Z
UID:11822-1729531800-1729537200@theventureforum.org
SUMMARY:The Power of Mentoring - EVENT CANCELED
DESCRIPTION:We regret to say that this event is not going to be held in October. Please watch for our future events!\n  \nJoin us for The Power of Mentoring event! \nAre you looking to learn about the impact of mentorship in your personal and professional life? Look no further! At this event\, we will explore the benefits of having a mentor and how it can help you reach your goals. Whether you are a seasoned professional or just starting out\, mentoring can make a huge difference in your journey. \nA panel of mentors and mentees discuss the importance of mentoring and how it can impact an individual and an organization. \nCome to Redemption Rock Brewing Company and connect with like-minded individuals who are passionate about growth and development. Don’t miss out on this opportunity to learn and network with others who believe in the power of mentoring!
URL:https://theventureforum.org/event/the-power-of-mentoring/
LOCATION:Redemption Rock Brewery\, 333 Shrewsbury Street\, Worcester\, MA\, 01604\, United States
CATEGORIES:Mentor Match,VF Networking Event
ATTACH;FMTTYPE=image/png:https://theventureforum.org/wp-content/uploads/power-of-mentoring-3.png
END:VEVENT
BEGIN:VEVENT
DTSTART;TZID=America/New_York:20240919T173000
DTEND;TZID=America/New_York:20240919T190000
DTSTAMP:20260422T143735
CREATED:20240805T143114Z
LAST-MODIFIED:20240909T182944Z
UID:11825-1726767000-1726772400@theventureforum.org
SUMMARY:AI: Smart Solutions in Daily Business Operations
DESCRIPTION:Join us for our 3rd discussion on AI\, “AI: Smart Solutions in Daily Business Operations” co-hosted by the The Venture Forum\, and Massachusetts Biomedical Initiatives (MBI). \nA panel of experts will offer ideas on how AI can be used in everyday business to help improve productivity.  There will be time to ask questions\, and opportunity to network with other members of the Venture Forum community. \nOur Moderator: \nBrian Geisel\, Founder and CEO of Geisel Software\, Inc. \n  \n \nOur Expert Panel Includes: \n\nKham Inthirath\, CEO at Compound Effect\nPriscilla Lasky\, Account Relationship Manager at Paragus IT\nJesse Silverberg\, PhD\, Founder and CEO of Multiscale Systems\n\n \n  \n \n 
URL:https://theventureforum.org/event/ai-smart-solutions-in-daily-business-operations/
LOCATION:Massachusetts Biomedical Initiatives (MBI)\, 17 Briden Street\, Worcester\, MA\, 01605\, United States
CATEGORIES:VF Networking Event
ATTACH;FMTTYPE=image/png:https://theventureforum.org/wp-content/uploads/AI_business3-with-panelists.png
END:VEVENT
END:VCALENDAR