BEGIN:VCALENDAR
VERSION:2.0
PRODID:-//The Venture Forum, Inc. - ECPv6.15.20//NONSGML v1.0//EN
CALSCALE:GREGORIAN
METHOD:PUBLISH
X-ORIGINAL-URL:https://theventureforum.org
X-WR-CALDESC:Events for The Venture Forum, Inc.
REFRESH-INTERVAL;VALUE=DURATION:PT1H
X-Robots-Tag:noindex
X-PUBLISHED-TTL:PT1H
BEGIN:VTIMEZONE
TZID:America/New_York
BEGIN:DAYLIGHT
TZOFFSETFROM:-0500
TZOFFSETTO:-0400
TZNAME:EDT
DTSTART:20250309T070000
END:DAYLIGHT
BEGIN:STANDARD
TZOFFSETFROM:-0400
TZOFFSETTO:-0500
TZNAME:EST
DTSTART:20251102T060000
END:STANDARD
BEGIN:DAYLIGHT
TZOFFSETFROM:-0500
TZOFFSETTO:-0400
TZNAME:EDT
DTSTART:20260308T070000
END:DAYLIGHT
BEGIN:STANDARD
TZOFFSETFROM:-0400
TZOFFSETTO:-0500
TZNAME:EST
DTSTART:20261101T060000
END:STANDARD
BEGIN:DAYLIGHT
TZOFFSETFROM:-0500
TZOFFSETTO:-0400
TZNAME:EDT
DTSTART:20270314T070000
END:DAYLIGHT
BEGIN:STANDARD
TZOFFSETFROM:-0400
TZOFFSETTO:-0500
TZNAME:EST
DTSTART:20271107T060000
END:STANDARD
END:VTIMEZONE
BEGIN:VEVENT
DTSTART;TZID=America/New_York:20260407T170000
DTEND;TZID=America/New_York:20260407T203000
DTSTAMP:20260422T172216
CREATED:20240213T171723Z
LAST-MODIFIED:20260213T162346Z
UID:11772-1775581200-1775593800@theventureforum.org
SUMMARY:WooTank 2026 - Intercollegiate Showdown
DESCRIPTION:Student entrepreneurs from Worcester-area colleges compete in a pitch competition for pre-seed investment dollars from angel investors \nWooTank Intercollegiate Showdown 2026\nGet ready for an electrifying evening of talent and entertainment at the WooTank Intercollegiate Showdown! \nVenture Forum is proud to host the 3nd Annual WooTank Pitch Competition! \nRegister here \n  \n 
URL:https://theventureforum.org/event/wootank-2025-intercollegiate-showdown/
LOCATION:Off The Rails\, 90 Commercial Street\, Worcester\, MA\, 01608\, United States
CATEGORIES:College,WooTank
ATTACH;FMTTYPE=image/png:https://theventureforum.org/wp-content/uploads/WooTank-Logo-Landscape-scaled.png
END:VEVENT
END:VCALENDAR