BEGIN:VCALENDAR
VERSION:2.0
PRODID:-//The Venture Forum, Inc. - ECPv6.15.20//NONSGML v1.0//EN
CALSCALE:GREGORIAN
METHOD:PUBLISH
X-ORIGINAL-URL:https://theventureforum.org
X-WR-CALDESC:Events for The Venture Forum, Inc.
REFRESH-INTERVAL;VALUE=DURATION:PT1H
X-Robots-Tag:noindex
X-PUBLISHED-TTL:PT1H
BEGIN:VTIMEZONE
TZID:America/New_York
BEGIN:DAYLIGHT
TZOFFSETFROM:-0500
TZOFFSETTO:-0400
TZNAME:EDT
DTSTART:20230312T070000
END:DAYLIGHT
BEGIN:STANDARD
TZOFFSETFROM:-0400
TZOFFSETTO:-0500
TZNAME:EST
DTSTART:20231105T060000
END:STANDARD
BEGIN:DAYLIGHT
TZOFFSETFROM:-0500
TZOFFSETTO:-0400
TZNAME:EDT
DTSTART:20240310T070000
END:DAYLIGHT
BEGIN:STANDARD
TZOFFSETFROM:-0400
TZOFFSETTO:-0500
TZNAME:EST
DTSTART:20241103T060000
END:STANDARD
BEGIN:DAYLIGHT
TZOFFSETFROM:-0500
TZOFFSETTO:-0400
TZNAME:EDT
DTSTART:20250309T070000
END:DAYLIGHT
BEGIN:STANDARD
TZOFFSETFROM:-0400
TZOFFSETTO:-0500
TZNAME:EST
DTSTART:20251102T060000
END:STANDARD
END:VTIMEZONE
BEGIN:VEVENT
DTSTART;TZID=America/New_York:20240521T173000
DTEND;TZID=America/New_York:20240521T190000
DTSTAMP:20260424T063640
CREATED:20240513T161928Z
LAST-MODIFIED:20240513T163404Z
UID:11477-1716312600-1716318000@theventureforum.org
SUMMARY:Spark Mentorship Program Graduation
DESCRIPTION:Join MBI and Venture Forum in congratulating our first ever cohort of Spark participants on their “graduation!” \n  \nJoin us on Tue May 21\, 2024 at 5:30 PM at MBI for a night of celebration and achievement. We will honor our mentors and mentees during a small “ceremony” and then end the festivities with some friendly networking. Come show your support and witness the innovation happening within MBI. See you there \n  \nhttps://www.eventbrite.com/e/spark-mentorship-program-graduation-tickets-897589954717
URL:https://theventureforum.org/event/spark-mentorship-program-graduation/
LOCATION:Massachusetts Biomedical Initiatives (MBI)\, 17 Briden Street\, Worcester\, MA\, 01605\, United States
CATEGORIES:Partner Event
ATTACH;FMTTYPE=image/jpeg:https://theventureforum.org/wp-content/uploads/spark-graduation.jpg
END:VEVENT
BEGIN:VEVENT
DTSTART;TZID=America/New_York:20240516T173000
DTEND;TZID=America/New_York:20240516T193000
DTSTAMP:20260424T063640
CREATED:20240429T154023Z
LAST-MODIFIED:20240429T154911Z
UID:11402-1715880600-1715887800@theventureforum.org
SUMMARY:New Resources for Massachusetts Startups: Grants\, Intellectual Property\, and Resources
DESCRIPTION:Are you a startup founder or entrepreneur based in Massachusetts? If so\, you won’t want to miss an exciting event that promises to be a hotspot for networking\, learning\, and growth within the vibrant startup ecosystem of the state. The Massachusetts Founders Network\, The Venture Forum\, WPI Business Development Lab\, Massachusetts Biomedical Initiatives\, and FedTech are teaming up to host a special evening in Worcester filled with insightful presentations\, valuable networking opportunities\, and in-depth discussions about what’s new and next for local entrepreneurs. \nDate & Time: Thursday \, May 16th\, Doors open at 5:30 PM for early networking. Presentations begin at 6:00 PM\, followed by an open Q&A session with the speakers at 6:50 PM. The event wraps up with more networking until the evening concludes. \nLocation: Massachusetts Biomedical Initiatives (MBI) – 17 Briden St\, Worcester\, MA 01605 \nClick here for registration page\nWhy You Should Attend \nIn a special announcement\, founders will learn about the new Massachusetts Climatetech Studio program\, which matches teams of entrepreneurs with cutting-edge technologies from federal and university labs during an intensive 16-week program cohort and offers a $15\,000 stipend and the chance to win additional funding. \nFeatured Presentations \n\nIntroducing the Massachusetts Climatetech Studio\, a new program from MassCEC and FedTech: Paula Anzer\, Advisor at FedTech\nSupport for Climatetech founders: Eric Sargent\, Program Manager at MassCEC\n\nEcosystem Updates \n\nWelcoming remarks from Massachusetts Biomedical Initiatives (MBI); Jon Weaver\, CEO\nWhat’s new at Venture Forum; Zachary Dutton\, Executive Director\nWPI entrepreneurship programs and collaborations with ESOs; Ardian Preci\, Director of WPI Business Development Lab\nState resources for founders: Megan Marszalek\, Program Director at MassTech\nUpdate on the Mass Founders Network Jeffrey Thomas\, Executive Director of Lever\, Inc.\n\n 
URL:https://theventureforum.org/event/new-resources-for-massachusetts-startups-grants-intellectual-property-and-resources/
LOCATION:Massachusetts Biomedical Initiatives (MBI)\, 17 Briden Street\, Worcester\, MA\, 01605\, United States
CATEGORIES:Partner Event
ATTACH;FMTTYPE=image/png:https://theventureforum.org/wp-content/uploads/Worcester-Event-Graphic-1.png
END:VEVENT
BEGIN:VEVENT
DTSTART;TZID=America/New_York:20240507T080000
DTEND;TZID=America/New_York:20240507T120000
DTSTAMP:20260424T063640
CREATED:20240424T175718Z
LAST-MODIFIED:20240424T180037Z
UID:11378-1715068800-1715083200@theventureforum.org
SUMMARY:9th Annual Woostapreneurs Forum
DESCRIPTION:The Woostapreneurs Forum intends to connect Greater Worcester to the entrepreneurship ecosystem and business resource providers in central Massachusetts. The conference is designed for existing business owners\, budding entrepreneurs\, veteran entrepreneurs\, millennial entrepreneurs\, women-owned businesses\, and other underserved entrepreneurs in search of business help.
URL:https://theventureforum.org/event/9th-annual-woostapreneurs-forum/
LOCATION:Holy Cross – Hogan Center\, 1 College Street\, Worcester\, MA\, 01610\, United States
CATEGORIES:Partner Event
ATTACH;FMTTYPE=image/jpeg:https://theventureforum.org/wp-content/uploads/woostapreneurs-9th-annual.jpg
END:VEVENT
BEGIN:VEVENT
DTSTART;TZID=America/New_York:20240422T160000
DTEND;TZID=America/New_York:20240422T193000
DTSTAMP:20260424T063640
CREATED:20240404T153929Z
LAST-MODIFIED:20240404T154356Z
UID:11326-1713801600-1713814200@theventureforum.org
SUMMARY:WPI's STARTUP EXPO 2024
DESCRIPTION:Partner Event! \nThe WPI Business Development Lab is hosting an exciting event showcasing the innovative startups from the WPI community. The expo will be held at the Rubin Campus Center\, where you can network with budding entrepreneurs\, explore cutting-edge technologies\, and discover the next big thing in the startup world. \nRegister on Eventbrite here:  https://www.eventbrite.com/e/wpis-startup-expo-tickets-867521368767
URL:https://theventureforum.org/event/wpis-startup-expo-2024/
LOCATION:Rubin Campus Center\, 100 Institute Road\, Worcester\, MA\, 01609\, United States
CATEGORIES:Partner Event
ATTACH;FMTTYPE=image/jpeg:https://theventureforum.org/wp-content/uploads/wpi-startup-expo-2024.jpg
END:VEVENT
BEGIN:VEVENT
DTSTART;TZID=America/New_York:20240402T170000
DTEND;TZID=America/New_York:20240402T203000
DTSTAMP:20260424T063640
CREATED:20240219T201258Z
LAST-MODIFIED:20240223T150352Z
UID:10090-1712077200-1712089800@theventureforum.org
SUMMARY:WooTank\, Intercollegiate Showdown
DESCRIPTION:Student entrepreneurs from Worcester-area colleges compete in a pitch competition for pre-seed investment dollars from angel investors \nWooTank – Intercollegiate Showdown\nGet ready for an electrifying evening of talent and entertainment at the WooTank – Intercollegiate Showdown! \nVenture Forum is proud to host this inaugural event in partnership with the participating colleges and WorcLab. \nOver the course of the evening\, 8 student-run companies will pitch their opportunity to a panel of investors to try to get one or more of them to invest real money into their venture. Negotiations will take place in real-time on the stage. \nWhether you’re a student looking to support your peers and school or simply love a good show\, this event promises to be an unforgettable evening. So mark your calendars and be prepared to be blown away by the WooTank – Intercollegiate Showdown! \n  \nRegister on Eventbrite: https://www.eventbrite.com/e/wootank-intercollegiate-showdown-tickets-789124170637\n  \n  \n    \n 
URL:https://theventureforum.org/event/wootank-intercollegiate-showdown/
LOCATION:BRICKBOX Theater @ Worcester PopUp\, 20 Franklin Street\, Worcester\, MA\, 01608\, United States
CATEGORIES:College,WooTank
ATTACH;FMTTYPE=image/png:https://theventureforum.org/wp-content/uploads/2024/02/wootank-16x9-1.png
END:VEVENT
BEGIN:VEVENT
DTSTART;TZID=America/New_York:20240323T113000
DTEND;TZID=America/New_York:20240323T133000
DTSTAMP:20260424T063640
CREATED:20240219T162915Z
LAST-MODIFIED:20240222T170919Z
UID:10088-1711193400-1711200600@theventureforum.org
SUMMARY:Student Entrepreneurship Ecosystem Summit (SEES)
DESCRIPTION:Unlock your entrepreneurial potential and connect with industry leaders at the Student Entrepreneurial Ecosystem Summit. \nAre you a college student with a passion for entrepreneurship? Are you looking for a way to turn your ideas into reality? Look no further than the Student Entrepreneurial Ecosystem Summit. This event is designed specifically for students like you\, who are eager to explore the world of entrepreneurship and connect with the support and resources needed to succeed. This will be held at WorcLab\, Worcester’s premier business incubator. \nAt the summit\, you’ll have the opportunity to hear from established entrepreneurs and learn about their journey to success. You’ll also have the chance to explore and talk to various entrepreneurial support organizations (ESOs) who will be manning tables around WorcLab\, representing their respective organizations. These ESOs will be there to provide valuable information\, guidance\, and resources to help you navigate the challenges of starting your own business. \nYou’ll also have the opportunity to meet and network with entrepreneurs from WorcLab\, who will be stationed around the facility to tell you about their businesses and how they got started. This is a great opportunity to gain valuable insights and inspiration from individuals who have already made the leap into entrepreneurship. \nAfter the event\, you’ll be given a tour of the facilities\, where you’ll get a chance to see firsthand the resources and support available to you as a student entrepreneur. \nDon’t miss out on this opportunity to jumpstart your entrepreneurial journey! Register today for the Student Entrepreneurial Ecosystem Summit and start connecting with the support\, resources\, and connections you need to turn your aspirations into reality. \nRegister on Eventbrite at: https://www.eventbrite.com/e/student-entrepreneurship-ecosystem-summit-2nd-annual-tickets-803224274427
URL:https://theventureforum.org/event/student-economic-summit-sees/
LOCATION:WorcLab\, 44 Portland Street 4th Floor\, Worcester\, MA\, 01608\, United States
CATEGORIES:College
ATTACH;FMTTYPE=image/png:https://theventureforum.org/wp-content/uploads/2024/02/sees-event.png
ORGANIZER;CN="WorcLab":MAILTO:info@worclab.org
END:VEVENT
BEGIN:VEVENT
DTSTART;TZID=America/New_York:20240318T170000
DTEND;TZID=America/New_York:20240318T190000
DTSTAMP:20260424T063640
CREATED:20240220T193852Z
LAST-MODIFIED:20240312T145645Z
UID:10131-1710781200-1710788400@theventureforum.org
SUMMARY:Launch Worcester
DESCRIPTION:Come and learn about Launch Worcester – a new platform for entrepreneurs\, business owners and professionals\, and those who support entrepreneurs. \nPowered by AI and a vibrant community of members\, Launch Worcester is designed to simplify your journey to success. Whether you’re just starting out or looking to expand\, this platform is your go-to destination for finding and connecting with local resources tailored to your needs. \nThere is no cost to attend and light food will be available and 1 free drink for the first 50 people who arrive! \n  \nSign up here: https://launchworcester.eventbrite.com \n 
URL:https://theventureforum.org/event/launch-worcester/
LOCATION:Redemption Rock Brewery\, 333 Shrewsbury Street\, Worcester\, MA\, 01604\, United States
CATEGORIES:Venture Forum Featured Event
ATTACH;FMTTYPE=image/jpeg:https://theventureforum.org/wp-content/uploads/launch-worcester1-sm.jpg
END:VEVENT
BEGIN:VEVENT
DTSTART;TZID=America/New_York:20240227T120000
DTEND;TZID=America/New_York:20240227T130000
DTSTAMP:20260424T063640
CREATED:20240220T192044Z
LAST-MODIFIED:20240222T170936Z
UID:10124-1709035200-1709038800@theventureforum.org
SUMMARY:Lunch & Learn: Risk Management
DESCRIPTION:Risk Management is the process of identifying\, assessing\, and controlling financial\, legal\, strategic and security risks/ threats to an organization’s capital\, earnings\, and operations. \nJoin us as industry veteran Rick Collins hosts an interactive workshop working with you as you understand your risk management needs as a startup or small business founder. \nRick A. Collins is an experienced insurance broker with more than 30 years of commercial insurance expertise. Before joining INpower\, Mr. Collins served as an SVP for several insurance brokerages in the New York area\, including Insurance Office of America\, Marsh\, and Lockton Companies. In addition to his proficiencies in risk management\, Mr. Collins is an articulate and persuasive communicator. He has delivered more than 1\,000 product seminars and is a regular guest speaker at events for decision-makers and industry professionals. Mr. Collins’s unique experience allows him to provide creative solutions for complex challenges and align insurance needs and coverage for his clients. \n— \nVirtual Sign-Up Link: \nhttps://us06web.zoom.us/meeting/register/tZUtf-usqzIpE9FaNggZNOx20LXBWdIxFWoI
URL:https://theventureforum.org/event/lunch-learn-risk-management/
LOCATION:WorcLab\, 44 Portland Street 4th Floor\, Worcester\, MA\, 01608\, United States
CATEGORIES:Webinars
ATTACH;FMTTYPE=image/jpeg:https://theventureforum.org/wp-content/uploads/2024/02/lunch-and-learn.jpg
ORGANIZER;CN="WorcLab":MAILTO:info@worclab.org
END:VEVENT
BEGIN:VEVENT
DTSTART;TZID=America/New_York:20240222T120000
DTEND;TZID=America/New_York:20240222T130000
DTSTAMP:20260424T063640
CREATED:20240219T161612Z
LAST-MODIFIED:20240222T171011Z
UID:10083-1708603200-1708606800@theventureforum.org
SUMMARY:Trade Secrets & Patent Law Webinar
DESCRIPTION:Trade Secrets & Patent Law Webinar\nThere’s more to intellectual property than just patents. Most people don’t know how they can use trade secrets to add value to their business and protect their assets. You’ll have an opportunity to learn from an expert in the field\, network with others in similar situations\, and ask questions along the way at The Venture Forum and WorcLab’s first online workshop of 2024! \nSpeaker:\nAtty. Lawrence P. Zale is an Intellectual Property Law Attorney registered to practice before the U.S. Patent and Trademark Office. He has drafted and prosecuted hundreds of U.S. patents and trademarks and directed foreign counsel regarding the prosecution of several hundred other patents and trademarks in more than 15 countries. Atty. Zale acted as Chief IP Counsel for all IP matters relating to his product lines totaling several billion dollars in annual sales.\nNotable clients are Tyco Healthcare Group\, L.P.\, G.E. Medical Systems\, Sherwood Medical Co.\, Alstom Power\, Inc.\, IBM\, Wal-Mart\, Endurance International\, and the U.S. Army.\nAtty. Zale currently runs an Intellectual Property (I.P.) law firm in Pennsylvania and Massachusetts and supports small businesses and start-ups in the medical device and energy sectors. He manages a small network of attorneys\, patent engineers\, paralegals\, and other support staff who handle various aspects of I.P. and corporate law. \n  \nRegister Here: https://us06web.zoom.us/meeting/register/tZEucuugrTwvH9fL07hcu6PcmuYJ-8lwdpJ1#/registration
URL:https://theventureforum.org/event/trade-secrets-patent-law/
LOCATION:Zoom
CATEGORIES:Webinars
ATTACH;FMTTYPE=image/png:https://theventureforum.org/wp-content/uploads/2024/02/small-steps-big-results-webinar.png
END:VEVENT
BEGIN:VEVENT
DTSTART;TZID=America/New_York:20240123T180000
DTEND;TZID=America/New_York:20240123T200000
DTSTAMP:20260424T063640
CREATED:20240223T143714Z
LAST-MODIFIED:20240223T143905Z
UID:10196-1706032800-1706040000@theventureforum.org
SUMMARY:The Evolving Landscape of AI
DESCRIPTION:Join us for a riveting panel discussion\, “The Evolving Landscape of AI\,” co-hosted by the WPI Business Development Lab and The Venture Forum. This event promises to be a confluence of minds and ideas\, diving deep into the dynamic and ever-changing world of Artificial Intelligence.
URL:https://theventureforum.org/event/the-evolving-landscape-of-ai/
LOCATION:Massachusetts Biomedical Initiatives (MBI)\, 17 Briden Street\, Worcester\, MA\, 01605\, United States
CATEGORIES:Partner Event,Speaker Series
ATTACH;FMTTYPE=image/jpeg:https://theventureforum.org/wp-content/uploads/2024/02/evolving-landscape-of-AI.jpg
END:VEVENT
END:VCALENDAR